BEGIN:VCALENDAR
VERSION:2.0
PRODID:-//Carnegie Carnival - ECPv6.2.9//NONSGML v1.0//EN
CALSCALE:GREGORIAN
METHOD:PUBLISH
X-ORIGINAL-URL:https://www.carnegiecarnival.org
X-WR-CALDESC:Events for Carnegie Carnival
REFRESH-INTERVAL;VALUE=DURATION:PT1H
X-Robots-Tag:noindex
X-PUBLISHED-TTL:PT1H
BEGIN:VTIMEZONE
TZID:America/Chicago
BEGIN:DAYLIGHT
TZOFFSETFROM:-0600
TZOFFSETTO:-0500
TZNAME:CDT
DTSTART:20260308T080000
END:DAYLIGHT
BEGIN:STANDARD
TZOFFSETFROM:-0500
TZOFFSETTO:-0600
TZNAME:CST
DTSTART:20261101T070000
END:STANDARD
END:VTIMEZONE
BEGIN:VEVENT
DTSTART;TZID=America/Chicago:20260131T110000
DTEND;TZID=America/Chicago:20260131T150000
DTSTAMP:20260424T081221
CREATED:20260115T221617Z
LAST-MODIFIED:20260115T221617Z
UID:6353-1769857200-1769871600@www.carnegiecarnival.org
SUMMARY:Spirit Day at Texas Roadhouse with Bella
DESCRIPTION:Come enjoy good food and support Bella for Lady Barks-A-Lot at Texas Roadhouse on Saturday\, January 31st\, from 11-3pm! We will have lots of Raffles\, dog treats\, human treats and Mardi Gras items for sale as well as snuggles from Bella!
URL:https://www.carnegiecarnival.org/event/spirit-day-at-texas-roadhouse-with-bella/
LOCATION:Texas Roadhouse\, 1006 Beltline Road SE\, Decatur\, AL\, 35601\, United States
CATEGORIES:Lady Barks-A-Lot
END:VEVENT
BEGIN:VEVENT
DTSTART;TZID=America/Chicago:20260131T110000
DTEND;TZID=America/Chicago:20260131T160000
DTSTAMP:20260424T081221
CREATED:20260103T221821Z
LAST-MODIFIED:20260103T221821Z
UID:6177-1769857200-1769875200@www.carnegiecarnival.org
SUMMARY:Spirit Day at the Brick with Maddie
DESCRIPTION:Come join princess candidate Maddie Dodson for Spirit Day at the Brick! Proceeds benefit CASA of North Alabama and the Carnegie Visual Arts Center.
URL:https://www.carnegiecarnival.org/event/spirit-day-at-the-brick-with-maddie/
LOCATION:The Brick Deli\, 112 East Moulton Street\, Decatur\, AL\, 35601\, United States
GEO:34.6041777;-86.9859025
X-APPLE-STRUCTURED-LOCATION;VALUE=URI;X-ADDRESS=The Brick Deli 112 East Moulton Street Decatur AL 35601 United States;X-APPLE-RADIUS=500;X-TITLE=112 East Moulton Street:geo:-86.9859025,34.6041777
END:VEVENT
BEGIN:VEVENT
DTSTART;TZID=America/Chicago:20260131T160000
DTEND;TZID=America/Chicago:20260131T210000
DTSTAMP:20260424T081221
CREATED:20260130T230903Z
LAST-MODIFIED:20260130T231331Z
UID:6451-1769875200-1769893200@www.carnegiecarnival.org
SUMMARY:Chaos at the Brick
DESCRIPTION:Join Crewe of Chaos for a Spirit Night at The Brick! Come enjoy a delicious dinner\, drinks and check out the raffles! A portion of your bill will go towards Chaos and the Carnegie Visual Arts Center.
URL:https://www.carnegiecarnival.org/event/chaos-at-the-brick/
LOCATION:The Brick Deli\, 112 East Moulton Street\, Decatur\, AL\, 35601\, United States
GEO:34.6041777;-86.9859025
X-APPLE-STRUCTURED-LOCATION;VALUE=URI;X-ADDRESS=The Brick Deli 112 East Moulton Street Decatur AL 35601 United States;X-APPLE-RADIUS=500;X-TITLE=112 East Moulton Street:geo:-86.9859025,34.6041777
END:VEVENT
BEGIN:VEVENT
DTSTART;TZID=America/Chicago:20260131T200000
DTEND;TZID=America/Chicago:20260201T000000
DTSTAMP:20260424T081221
CREATED:20260103T223128Z
LAST-MODIFIED:20260117T024615Z
UID:6181-1769889600-1769904000@www.carnegiecarnival.org
SUMMARY:12th Annual Masquerade Ball hosted by the Crewe de Voisins Bruyants
DESCRIPTION:Join the Crewe de Voisins Bruyants (Rowdy Neighbors) for their 12th Annual Masquerade Ball\, hosted at the Magnolia Room from 8pm-12am! Tickets $60/person. Tickets now available via Venmo. If you’re wanting a paper ticket\, they are now available at Simp McGhee’s during their open hours. Cash bar & Hors d’oeuvres provided. Live music by Buffalo Stampede. Attire is cocktail/formal. Over 21 only. \n  \nNote: To pay electronically\, please use Venmo: @Rowdy-Neighbors (Savanne Hammond) and be sure to list ticket holder(s) name in the Comments within transaction. Crewe will not be held responsible if you send the incorrect account.
URL:https://www.carnegiecarnival.org/event/12th-annual-masquerade-ball/
LOCATION:The Magnolia Room\, 216 Moulton Street E\, Decatur\, AL\, 35601\, United States
CATEGORIES:Crewe
GEO:34.6041501;-86.9843329
X-APPLE-STRUCTURED-LOCATION;VALUE=URI;X-ADDRESS=The Magnolia Room 216 Moulton Street E Decatur AL 35601 United States;X-APPLE-RADIUS=500;X-TITLE=216 Moulton Street E:geo:-86.9843329,34.6041501
END:VEVENT
END:VCALENDAR