BEGIN:VCALENDAR
VERSION:2.0
PRODID:-//Carnegie Carnival - ECPv6.2.9//NONSGML v1.0//EN
CALSCALE:GREGORIAN
METHOD:PUBLISH
X-WR-CALNAME:Carnegie Carnival
X-ORIGINAL-URL:https://www.carnegiecarnival.org
X-WR-CALDESC:Events for Carnegie Carnival
REFRESH-INTERVAL;VALUE=DURATION:PT1H
X-Robots-Tag:noindex
X-PUBLISHED-TTL:PT1H
BEGIN:VTIMEZONE
TZID:America/Chicago
BEGIN:DAYLIGHT
TZOFFSETFROM:-0600
TZOFFSETTO:-0500
TZNAME:CDT
DTSTART:20260308T080000
END:DAYLIGHT
BEGIN:STANDARD
TZOFFSETFROM:-0500
TZOFFSETTO:-0600
TZNAME:CST
DTSTART:20261101T070000
END:STANDARD
END:VTIMEZONE
BEGIN:VEVENT
DTSTART;TZID=America/Chicago:20260206T160000
DTEND;TZID=America/Chicago:20260206T200000
DTSTAMP:20260424T063422
CREATED:20260121T205723Z
LAST-MODIFIED:20260122T183219Z
UID:6402-1770393600-1770408000@www.carnegiecarnival.org
SUMMARY:Spirit Night at Panera Bread for Lily and Balto
DESCRIPTION:Join us for a special Fundraiser Night at Panera Bread on February 6th and enjoy some great food while supporting an amazing cause! Proceeds benefit the Carnegie Visual Arts Center and Decatur Animal Services. This fundraiser supports Balto\, running for Sir Bow Wow\, and Lily\, running for Lady Barks-a-lot. Your dinner plans can make a difference—so grab your friends\, bring the family\, and help us support two great causes all in one night.
URL:https://www.carnegiecarnival.org/event/fundraiser-night-at-panera-bread/
CATEGORIES:Lady Barks-A-Lot,Sir Bow-Wow
END:VEVENT
BEGIN:VEVENT
DTSTART;TZID=America/Chicago:20260206T170000
DTEND;TZID=America/Chicago:20260206T200000
DTSTAMP:20260424T063422
CREATED:20260203T200120Z
LAST-MODIFIED:20260203T202110Z
UID:6456-1770397200-1770408000@www.carnegiecarnival.org
SUMMARY:Mahjong with Murphy at Hailos
DESCRIPTION:Join us for Mardi Mahjong with Murphy on Friday\, February 6th from 5-8 at Hailos! Beginner friendly. $45/per person- learn to play starting at 5 pm. $30/per person for mini tournament starting at 7 pm. This event supports princess candidate Murphy. Proceeds benefit CASA of North Alabama and the Carnegie Visual Arts Center.
URL:https://www.carnegiecarnival.org/event/mahjong-with-murphy-at-hailos/
LOCATION:Hailos\, 722 Bank St NE\, Decatur\, AL\, 35601\, United States
CATEGORIES:Princess
END:VEVENT
BEGIN:VEVENT
DTSTART;TZID=America/Chicago:20260206T180000
DTEND;TZID=America/Chicago:20260206T210000
DTSTAMP:20260424T063422
CREATED:20260105T225145Z
LAST-MODIFIED:20260105T225145Z
UID:6198-1770400800-1770411600@www.carnegiecarnival.org
SUMMARY:Daddy-Daughter/Mother-Son Date Night
DESCRIPTION:Join us at the Carnegie Visual Arts Center on Friday\, Febuary 6th at 6 pm for Daddy-Daughter/Mother-Son date night! Enjoy a special evening including dinner\, dancing\, crafts\, & fun! Seating is limited\, reserve your spot today. $5o per couple (extra $15 for additional children)! This event supports Princess Candidate Emma Hensley McMasters. Proceeds benefit CASA of North Alabama & the Carnegie Visual Arts Center! Reserve tickets by visiting and completely filling out this Google Form.
URL:https://www.carnegiecarnival.org/event/daddy-daughter-mother-son-date-night/
LOCATION:Carnegie Visual Arts Center\, 207 Church Street\, NE\, Decatur\, AL\, 35601\, United States
CATEGORIES:Princess
GEO:34.6116295;-86.9820525
X-APPLE-STRUCTURED-LOCATION;VALUE=URI;X-ADDRESS=Carnegie Visual Arts Center 207 Church Street NE Decatur AL 35601 United States;X-APPLE-RADIUS=500;X-TITLE=207 Church Street\, NE:geo:-86.9820525,34.6116295
END:VEVENT
END:VCALENDAR