BEGIN:VCALENDAR
VERSION:2.0
PRODID:-//Carnegie Carnival - ECPv6.2.9//NONSGML v1.0//EN
CALSCALE:GREGORIAN
METHOD:PUBLISH
X-WR-CALNAME:Carnegie Carnival
X-ORIGINAL-URL:https://www.carnegiecarnival.org
X-WR-CALDESC:Events for Carnegie Carnival
REFRESH-INTERVAL;VALUE=DURATION:PT1H
X-Robots-Tag:noindex
X-PUBLISHED-TTL:PT1H
BEGIN:VTIMEZONE
TZID:America/Chicago
BEGIN:DAYLIGHT
TZOFFSETFROM:-0600
TZOFFSETTO:-0500
TZNAME:CDT
DTSTART:20250309T080000
END:DAYLIGHT
BEGIN:STANDARD
TZOFFSETFROM:-0500
TZOFFSETTO:-0600
TZNAME:CST
DTSTART:20251102T070000
END:STANDARD
END:VTIMEZONE
BEGIN:VEVENT
DTSTART;TZID=America/Chicago:20250104T130000
DTEND;TZID=America/Chicago:20250104T160000
DTSTAMP:20260425T075501
CREATED:20241229T222634Z
LAST-MODIFIED:20241229T222732Z
UID:5429-1735995600-1736006400@www.carnegiecarnival.org
SUMMARY:Queens Tea on the High Seas
DESCRIPTION:Ahoy mateys\,Be certain ye book yons passage early for the best seats on the High Seas at ye Ol’ Carnegie. The Southeastern Diversity Project be presentin’ the reigning queens nibblin’ the delicacies and spillin’\, we mean sippin’ the tea right at table wit ye. There be some fine choices for your eatings and pleny o pirated up tea for ye drinkin.’ Board the festivities early for a sneak peek at the lovelies and VIP treatment that’s sure to leave the scallywags walking the plank and green with jealousy. Should ye be desiring of a little libation in your hydration\, we’ll shiver ye timbers. Not to worry should ye be not partaking of the timber shivering\, only the mates who add it will be gettin’ it. Just pick the passage that suits you best and Crewe o’ye Crooked Goat be serving you whilst the Dowager Queen and the pretty painted ladies lounge about wit ye twixt the singing and dancing.\n\nGA Ticket- $25.00Alcohol Add-on- $10.00VIP Experience Add-on- $10.00\n1:00 PM – 1:45 PM- VIP Experience- Must have VIP Experience TicketEarly admission\, get your picture made\, hangout\, chat and get to know your Queens.\n1:45 PM- Doors Open- General Admission\n2:00 PM – 4:00 PM- Tea with a Queen begins
URL:https://www.carnegiecarnival.org/event/queens-tea-on-the-high-seas/
LOCATION:Carnegie Visual Arts Center\, 207 Church Street\, NE\, Decatur\, AL\, 35601\, United States
CATEGORIES:Queen
GEO:34.6116295;-86.9820525
X-APPLE-STRUCTURED-LOCATION;VALUE=URI;X-ADDRESS=Carnegie Visual Arts Center 207 Church Street NE Decatur AL 35601 United States;X-APPLE-RADIUS=500;X-TITLE=207 Church Street\, NE:geo:-86.9820525,34.6116295
END:VEVENT
END:VCALENDAR