BEGIN:VCALENDAR
VERSION:2.0
PRODID:-//Carnegie Carnival - ECPv6.2.9//NONSGML v1.0//EN
CALSCALE:GREGORIAN
METHOD:PUBLISH
X-WR-CALNAME:Carnegie Carnival
X-ORIGINAL-URL:https://www.carnegiecarnival.org
X-WR-CALDESC:Events for Carnegie Carnival
REFRESH-INTERVAL;VALUE=DURATION:PT1H
X-Robots-Tag:noindex
X-PUBLISHED-TTL:PT1H
BEGIN:VTIMEZONE
TZID:America/Chicago
BEGIN:DAYLIGHT
TZOFFSETFROM:-0600
TZOFFSETTO:-0500
TZNAME:CDT
DTSTART:20250309T080000
END:DAYLIGHT
BEGIN:STANDARD
TZOFFSETFROM:-0500
TZOFFSETTO:-0600
TZNAME:CST
DTSTART:20251102T070000
END:STANDARD
END:VTIMEZONE
BEGIN:VEVENT
DTSTART;TZID=America/Chicago:20250106T170000
DTEND;TZID=America/Chicago:20250106T210000
DTSTAMP:20260425T075505
CREATED:20250101T195623Z
LAST-MODIFIED:20250107T012400Z
UID:5460-1736182800-1736197200@www.carnegiecarnival.org
SUMMARY:Mellow Mushroom Spirit Night for Trae
DESCRIPTION:
URL:https://www.carnegiecarnival.org/event/mellow-mushroom-spirit-night/
CATEGORIES:Prince
END:VEVENT
BEGIN:VEVENT
DTSTART;TZID=America/Chicago:20250107T150000
DTEND;TZID=America/Chicago:20250107T220000
DTSTAMP:20260425T075505
CREATED:20250107T001813Z
LAST-MODIFIED:20250107T012349Z
UID:5508-1736262000-1736287200@www.carnegiecarnival.org
SUMMARY:Texas Roadhouse Spirit Night for Parker
DESCRIPTION:Please come out and support me at Texas Roadhouse! Make sure to tell your server you want some of the proceeds to benefit me!
URL:https://www.carnegiecarnival.org/event/texas-roadhouse-spirit-night/
LOCATION:Texas Roadhouse\, 1006 Beltline Road SE\, Decatur\, AL\, 35601\, United States
CATEGORIES:Prince
END:VEVENT
BEGIN:VEVENT
DTSTART;TZID=America/Chicago:20250109T170000
DTEND;TZID=America/Chicago:20250109T200000
DTSTAMP:20260425T075505
CREATED:20250105T191539Z
LAST-MODIFIED:20250107T012303Z
UID:5493-1736442000-1736452800@www.carnegiecarnival.org
SUMMARY:El Portal Spirit Night for Ella
DESCRIPTION:Multiple raffles to enter!!!
URL:https://www.carnegiecarnival.org/event/el-portal-spirit-night/
LOCATION:El Portal #2\, 1315 US-31\, Hartselle\, AL\, 35640\, United States
CATEGORIES:Princess
END:VEVENT
BEGIN:VEVENT
DTSTART;TZID=America/Chicago:20250109T170000
DTEND;TZID=America/Chicago:20250109T200000
DTSTAMP:20260425T075505
CREATED:20250107T010728Z
LAST-MODIFIED:20250107T010728Z
UID:5510-1736442000-1736452800@www.carnegiecarnival.org
SUMMARY:Simp McGhee's Spirit Night for Parker
DESCRIPTION:
URL:https://www.carnegiecarnival.org/event/simp-mcghees-spirit-night-for-parker/
CATEGORIES:Prince
END:VEVENT
BEGIN:VEVENT
DTSTART;TZID=America/Chicago:20250109T170000
DTEND;TZID=America/Chicago:20250109T200000
DTSTAMP:20260425T075505
CREATED:20250107T225850Z
LAST-MODIFIED:20250107T225850Z
UID:5527-1736442000-1736452800@www.carnegiecarnival.org
SUMMARY:Zaxby's Spirit Night with Trae
DESCRIPTION:Next Spirit Night at Zaxby’s in Hartselle. Must tell cashier you’re there for spirit night prior to ordering\, dine-in or drive-thru!
URL:https://www.carnegiecarnival.org/event/zaxbys-spirit-night-with-trae/
LOCATION:Zaxby’s Hartselle\, 351 2nd Ave\, Hartselle\, AL\, 35640\, United States
CATEGORIES:Prince
END:VEVENT
BEGIN:VEVENT
DTSTART;TZID=America/Chicago:20250109T180000
DTEND;TZID=America/Chicago:20250109T210000
DTSTAMP:20260425T075505
CREATED:20241229T223436Z
LAST-MODIFIED:20250127T213550Z
UID:5438-1736445600-1736456400@www.carnegiecarnival.org
SUMMARY:Bank Street Grill Spirit Night for Nancy
DESCRIPTION:All the drawings will be drawn on February 27th!
URL:https://www.carnegiecarnival.org/event/bank-street-grill-spirit-night-2/2025-01-09/
LOCATION:Bank Street Grill\, 719 Bank St NE\, Decatur\, AL\, 35601\, United States
CATEGORIES:Queen
GEO:34.612892;-86.9853784
X-APPLE-STRUCTURED-LOCATION;VALUE=URI;X-ADDRESS=Bank Street Grill 719 Bank St NE Decatur AL 35601 United States;X-APPLE-RADIUS=500;X-TITLE=719 Bank St NE:geo:-86.9853784,34.612892
END:VEVENT
BEGIN:VEVENT
DTSTART;TZID=America/Chicago:20250109T183000
DTEND;TZID=America/Chicago:20250109T200000
DTSTAMP:20260425T075505
CREATED:20250105T194037Z
LAST-MODIFIED:20250109T130424Z
UID:5497-1736447400-1736452800@www.carnegiecarnival.org
SUMMARY:Just Wing It Spirit Night for Cheyenne
DESCRIPTION:Enjoy your last meal before the winter weather at Just Wing It Thursday January 9 from 6:30-8:00! A percentage of proceeds will be donated to my Carnegie Queen campaign!!
URL:https://www.carnegiecarnival.org/event/just-wing-it-spirit-night/
LOCATION:Just Wing It\, 1123 Somerville Road\, Decatur\, 35601\, United States
CATEGORIES:Queen
END:VEVENT
END:VCALENDAR