BEGIN:VCALENDAR
VERSION:2.0
PRODID:-//Carnegie Carnival - ECPv6.2.9//NONSGML v1.0//EN
CALSCALE:GREGORIAN
METHOD:PUBLISH
X-ORIGINAL-URL:https://www.carnegiecarnival.org
X-WR-CALDESC:Events for Carnegie Carnival
REFRESH-INTERVAL;VALUE=DURATION:PT1H
X-Robots-Tag:noindex
X-PUBLISHED-TTL:PT1H
BEGIN:VTIMEZONE
TZID:America/Chicago
BEGIN:DAYLIGHT
TZOFFSETFROM:-0600
TZOFFSETTO:-0500
TZNAME:CDT
DTSTART:20250309T080000
END:DAYLIGHT
BEGIN:STANDARD
TZOFFSETFROM:-0500
TZOFFSETTO:-0600
TZNAME:CST
DTSTART:20251102T070000
END:STANDARD
END:VTIMEZONE
BEGIN:VEVENT
DTSTART;TZID=America/Chicago:20250113T170000
DTEND;TZID=America/Chicago:20250113T210000
DTSTAMP:20260425T075628
CREATED:20250112T231453Z
LAST-MODIFIED:20250112T231453Z
UID:5574-1736787600-1736802000@www.carnegiecarnival.org
SUMMARY:Alfonso's Spirit Night for Parker
DESCRIPTION:Join us for raffles\, pizza\, and fun! Proceeds benefit CASA and The Carnegie Visual Arts Center.
URL:https://www.carnegiecarnival.org/event/alfonsos-spirit-night-for-parker/
LOCATION:Alfonso’s\, 725 Beltline Rd SW Suite E\, Decatur\, AL\, 35603\, United States
CATEGORIES:Prince
END:VEVENT
BEGIN:VEVENT
DTSTART;TZID=America/Chicago:20250116T150000
DTEND;TZID=America/Chicago:20250116T200000
DTSTAMP:20260425T075628
CREATED:20250109T014034Z
LAST-MODIFIED:20250109T014034Z
UID:5544-1737039600-1737057600@www.carnegiecarnival.org
SUMMARY:Moe's BBQ Spirit Night with Addison
DESCRIPTION:Join me at Moe’s BBQ in Priceville on Thursday\, January 16 from 3:00 until 8:00 pm. Moe’s will donate a portion of sales when you mention “Addison for Carnegie”. I will have raffles present\, so bring your family or pickup dinner thru the drive thru!
URL:https://www.carnegiecarnival.org/event/moes-bbq-spirit-night-with-addison/
LOCATION:Moe’s BBQ Priceville\, 3524 Deere Rd SE\, Decatur\, 35603\, United States
CATEGORIES:Princess
END:VEVENT
BEGIN:VEVENT
DTSTART;TZID=America/Chicago:20250116T160000
DTEND;TZID=America/Chicago:20250116T210000
DTSTAMP:20260425T075628
CREATED:20250114T011319Z
LAST-MODIFIED:20250114T011319Z
UID:5619-1737043200-1737061200@www.carnegiecarnival.org
SUMMARY:Alfonso's Spirit Night with Ella
DESCRIPTION:Join us for an unforgettable spirit night at Alfonso’s! multiple raffles to enter!!
URL:https://www.carnegiecarnival.org/event/alfonsos-spirit-night-with-ella/
LOCATION:Alfonso’s\, 725 Beltline Rd SW Suite E\, Decatur\, AL\, 35603\, United States
CATEGORIES:Princess
END:VEVENT
BEGIN:VEVENT
DTSTART;TZID=America/Chicago:20250117T170000
DTEND;TZID=America/Chicago:20250117T200000
DTSTAMP:20260425T075628
CREATED:20241229T223759Z
LAST-MODIFIED:20250103T000829Z
UID:5447-1737133200-1737144000@www.carnegiecarnival.org
SUMMARY:Bingo & Boutique Night
DESCRIPTION:You’re Invited!\nBingo & BoutiqueBenefiting Cheyenne for Carnegie Queen\nJoin us for an evening of fun\, shopping\, and community support!\n• Shop Local Vendors: Discover unique items while supporting local businesses. A percentage of all purchases will benefit the Carnegie Visual Arts Center.• Play Bingo: Enjoy a lively game of bingo with fabulous prizes donated by local businesses! Bingo tickets will be sold per round\, with card prices increasing based on the value of the prize.\nThis is a FREE event—so bring your friends and family! Together\, let’s support Cheyenne Sanchez in her campaign for Carnegie Queen and help keep the arts thriving in our community.\nWe can’t wait to see you there!
URL:https://www.carnegiecarnival.org/event/bingo-boutique-night/
LOCATION:Everything Now Hartselle\, 113 Sparkman St.\, Hartselle\, AL\, 35640\, United States
CATEGORIES:Queen
END:VEVENT
BEGIN:VEVENT
DTSTART;TZID=America/Chicago:20250118T090000
DTEND;TZID=America/Chicago:20250118T120000
DTSTAMP:20260425T075628
CREATED:20241229T223910Z
LAST-MODIFIED:20250107T001036Z
UID:5450-1737190800-1737201600@www.carnegiecarnival.org
SUMMARY:You Are Worth It Women’s Conference
DESCRIPTION:Empowering Women & Supporting the Arts Women’s Leadership• Inspiring the next generation of leaders.• Keynote speakers and workshops to develop your leadership skills.\n Women’s Mental Health• Prioritizing self-care and mental wellness.• Expert sessions on stress management\, resilience\, and mindfulness.\n Women Empowerment• Building confidence and embracing your true potential.• Stories of success and strategies for personal and professional growth.\nJoin us for an uplifting day of connection\, learning\, and empowerment.\nLet’s thrive together!\nAll proceeds benefiting Cheyenne for Carnegie Queen!
URL:https://www.carnegiecarnival.org/event/you-are-worth-it-womens-conference/
CATEGORIES:Queen
END:VEVENT
BEGIN:VEVENT
DTSTART;TZID=America/Chicago:20250118T100000
DTEND;TZID=America/Chicago:20250118T160000
DTSTAMP:20260425T075628
CREATED:20250109T013512Z
LAST-MODIFIED:20250109T013512Z
UID:5541-1737194400-1737216000@www.carnegiecarnival.org
SUMMARY:Eats by Sheats Spirit Night with Jackson
DESCRIPTION:More details to come!
URL:https://www.carnegiecarnival.org/event/eats-by-sheats-spirit-night-with-jackson/
LOCATION:Eats by Sheats\, 1790 S Bethel Rd Suite C\, Decatur\, 35603\, United States
CATEGORIES:Prince
END:VEVENT
BEGIN:VEVENT
DTSTART;TZID=America/Chicago:20250118T110000
DTEND;TZID=America/Chicago:20250118T160000
DTSTAMP:20260425T075628
CREATED:20250111T172241Z
LAST-MODIFIED:20250111T172241Z
UID:5561-1737198000-1737216000@www.carnegiecarnival.org
SUMMARY:Brick Deli Bloody Mary Brunch & Spirit Day for Nancy
DESCRIPTION:Come out and enjoy an amazing Bloody Mary and Brunch and support Nancy Case for Carnegie Carnival Queen! Be sure to arrive early enough to get a skewer from Deviant Smoke with your Bloody Mary! Don’t forget to check out all the great raffles and so much more!
URL:https://www.carnegiecarnival.org/event/brick-deli-bloody-mary-brunch-spirit-day-for-nancy/
LOCATION:The Brick Deli\, 112 East Moulton Street\, Decatur\, AL\, 35601\, United States
CATEGORIES:Queen
GEO:34.6041777;-86.9859025
X-APPLE-STRUCTURED-LOCATION;VALUE=URI;X-ADDRESS=The Brick Deli 112 East Moulton Street Decatur AL 35601 United States;X-APPLE-RADIUS=500;X-TITLE=112 East Moulton Street:geo:-86.9859025,34.6041777
END:VEVENT
BEGIN:VEVENT
DTSTART;TZID=America/Chicago:20250118T180000
DTEND;TZID=America/Chicago:20250118T220000
DTSTAMP:20260425T075628
CREATED:20250109T013111Z
LAST-MODIFIED:20250109T013757Z
UID:5539-1737223200-1737237600@www.carnegiecarnival.org
SUMMARY:Brick Deli Spirit Night with Harris & Lulu
DESCRIPTION:Kick off Harris & Lulu’s campaign at the Brick on the 18th with lots of raffles!
URL:https://www.carnegiecarnival.org/event/spirit-night-at-the-brick-with-harris-lulu/
CATEGORIES:Prince,Princess
END:VEVENT
BEGIN:VEVENT
DTSTART;TZID=America/Chicago:20250118T190000
DTEND;TZID=America/Chicago:20250118T220000
DTSTAMP:20260425T075628
CREATED:20241229T222951Z
LAST-MODIFIED:20250116T235016Z
UID:5432-1737226800-1737237600@www.carnegiecarnival.org
SUMMARY:CANCELED- Miss Carnegie Carnival and Madam Mardi Gras Pageant
DESCRIPTION:This event provides a unique two-for-one pageant experience! Real-life drag artists will compete for the title of Miss Carnegie Carnival\, while also mentoring former contestants from the Real Queens of Carnegie and newcomers who are vying for the title of Madam Mardi Gras 2025.\n\nThe contestants for both the Miss and Madam titles will be paired randomly. If a Madam contestant wins\, her paired Miss contestant will earn additional points. As always\, the more tips the Madam contestants receive\, the higher their scores will be.\n\nReal Queens was always a crowd favorite for the Carnegie Carnival season. Come out and enjoy this re-vamp and support Queen Candidate Nancy Case as she raises money for the Carnegie Visual Arts Center. The Carnegie is a local treasure\, much like the Princess Theatre and both non-profits elevate the culture of our community.\n\nCome laugh it up with your Emcee Ginger Vandiver\, and co-hosts Kirstin Orlando and China Brooks.
URL:https://www.carnegiecarnival.org/event/miss-carnegie-carnival-and-madam-mardi-gras-pageant/
CATEGORIES:Queen
END:VEVENT
END:VCALENDAR