BEGIN:VCALENDAR
VERSION:2.0
PRODID:-//Carnegie Carnival - ECPv6.2.9//NONSGML v1.0//EN
CALSCALE:GREGORIAN
METHOD:PUBLISH
X-ORIGINAL-URL:https://www.carnegiecarnival.org
X-WR-CALDESC:Events for Carnegie Carnival
REFRESH-INTERVAL;VALUE=DURATION:PT1H
X-Robots-Tag:noindex
X-PUBLISHED-TTL:PT1H
BEGIN:VTIMEZONE
TZID:America/Chicago
BEGIN:DAYLIGHT
TZOFFSETFROM:-0600
TZOFFSETTO:-0500
TZNAME:CDT
DTSTART:20250309T080000
END:DAYLIGHT
BEGIN:STANDARD
TZOFFSETFROM:-0500
TZOFFSETTO:-0600
TZNAME:CST
DTSTART:20251102T070000
END:STANDARD
END:VTIMEZONE
BEGIN:VEVENT
DTSTART;TZID=America/Chicago:20250203T110000
DTEND;TZID=America/Chicago:20250203T220000
DTSTAMP:20260425T062306
CREATED:20250112T231543Z
LAST-MODIFIED:20250116T224940Z
UID:5576-1738580400-1738620000@www.carnegiecarnival.org
SUMMARY:Buffalo Wild Wings Spirit Night for Abbie
DESCRIPTION:Raffle items available! Must show ticket on the Facebook event to your server!
URL:https://www.carnegiecarnival.org/event/buffalo-wild-wings-spirit-night-for-abbie/
LOCATION:Buffalo Wild Wings
CATEGORIES:Princess
END:VEVENT
BEGIN:VEVENT
DTSTART;TZID=America/Chicago:20250203T180000
DTEND;TZID=America/Chicago:20250203T200000
DTSTAMP:20260425T062307
CREATED:20250115T124022Z
LAST-MODIFIED:20250115T124022Z
UID:5640-1738605600-1738612800@www.carnegiecarnival.org
SUMMARY:Spirit Night at the Game with Nancy
DESCRIPTION:Come for great food and drinks\, throw some axes\, and catch the game!Be sure to check out all the great raffles while you’re there!
URL:https://www.carnegiecarnival.org/event/spirit-night-at-the-game-with-nancy/
LOCATION:The Game\, 209 2nd Ave SE\, Decatur\, 35601\, United States
CATEGORIES:Queen
END:VEVENT
BEGIN:VEVENT
DTSTART;TZID=America/Chicago:20250204T160000
DTEND;TZID=America/Chicago:20250204T200000
DTSTAMP:20260425T062307
CREATED:20250202T220516Z
LAST-MODIFIED:20250202T220516Z
UID:5838-1738684800-1738699200@www.carnegiecarnival.org
SUMMARY:Alfonso's Spirit Night with Abbie
DESCRIPTION:Proceeds benefit CASA and The Carnegie Visual Arts Center
URL:https://www.carnegiecarnival.org/event/alfonsos-spirit-night-with-abbie/
LOCATION:Alfonso’s\, 725 Beltline Rd SW Suite E\, Decatur\, AL\, 35603\, United States
CATEGORIES:Princess
END:VEVENT
BEGIN:VEVENT
DTSTART;TZID=America/Chicago:20250204T160000
DTEND;TZID=America/Chicago:20250204T220000
DTSTAMP:20260425T062307
CREATED:20250202T214437Z
LAST-MODIFIED:20250202T214437Z
UID:5830-1738684800-1738706400@www.carnegiecarnival.org
SUMMARY:Bank Street Grill Spirit Night with Prince
DESCRIPTION:
URL:https://www.carnegiecarnival.org/event/bank-street-grill-spirit-night-with-prince/
LOCATION:Bank Street Grill\, 719 Bank St NE\, Decatur\, AL\, 35601\, United States
CATEGORIES:Sir Bow-Wow
GEO:34.612892;-86.9853784
X-APPLE-STRUCTURED-LOCATION;VALUE=URI;X-ADDRESS=Bank Street Grill 719 Bank St NE Decatur AL 35601 United States;X-APPLE-RADIUS=500;X-TITLE=719 Bank St NE:geo:-86.9853784,34.612892
END:VEVENT
BEGIN:VEVENT
DTSTART;TZID=America/Chicago:20250205T180000
DTEND;TZID=America/Chicago:20250205T200000
DTSTAMP:20260425T062307
CREATED:20250126T144012Z
LAST-MODIFIED:20250126T144012Z
UID:5720-1738778400-1738785600@www.carnegiecarnival.org
SUMMARY:Tio Juan Spirit Night with Nancy
DESCRIPTION:Come and join us for a great dinner and support Nancy Case for Carnegie Queen XIV! Be sure to check out all the great raffles while you’re there! Proceeds benefit Carnegie Visual Arts Center!
URL:https://www.carnegiecarnival.org/event/tio-juan-spirit-night-with-nancy/
LOCATION:Tio Juan\, 1318 6th Ave SE\, Decatur\, 35601\, United States
CATEGORIES:Queen
END:VEVENT
BEGIN:VEVENT
DTSTART;TZID=America/Chicago:20250206T160000
DTEND;TZID=America/Chicago:20250206T210000
DTSTAMP:20260425T062307
CREATED:20250131T002748Z
LAST-MODIFIED:20250131T002748Z
UID:5816-1738857600-1738875600@www.carnegiecarnival.org
SUMMARY:Alfonso's Spirit Night with Harris
DESCRIPTION:Enjoy some delicious Italian food from Alfonso’s Feb. 6 to support Harris Penley for CASA/Carnegie Prince and CASA & Carnegie Carnival Prince & Princess Candidate Events See details below! Thank you for all of your support!!!
URL:https://www.carnegiecarnival.org/event/alfonsos-spirit-night-with-harris/
LOCATION:Alfonso’s\, 725 Beltline Rd SW Suite E\, Decatur\, AL\, 35603\, United States
CATEGORIES:Prince
END:VEVENT
BEGIN:VEVENT
DTSTART;TZID=America/Chicago:20250206T183000
DTEND;TZID=America/Chicago:20250206T203000
DTSTAMP:20260425T062307
CREATED:20250130T020755Z
LAST-MODIFIED:20250130T020755Z
UID:5797-1738866600-1738873800@www.carnegiecarnival.org
SUMMARY:Cabi Clothing Shopping Event with Personal Stylist Vanessa Sively
DESCRIPTION:What: Cabi Clothing Shopping Event with Personal Stylist Vanessa SivelyWhen: February 6\, 6:30 PMWhere: MeritHouse RealtyDetails: Enjoy a fun evening of shopping with personal styling assistance from Vanessa Sively. Finger foods and refreshments will be provided.\nSupport a Cause: A percentage of the proceeds will benefit Cheyenne Sanchez in her campaign for Carnegie Queen\, supporting the Carnegie Visual Arts Center.\nCome shop\, mingle\, and make a difference!\nCan’t make it? Shop online through this link:\nhttps://cabishows.com/0zd6x
URL:https://www.carnegiecarnival.org/event/cabi-clothing-shopping-event-with-personal-stylist-vanessa-sively/
LOCATION:MeritHouse Realty\, 113 2nd Avenue SE\, Decatur\, 35601\, United States
CATEGORIES:Queen
END:VEVENT
BEGIN:VEVENT
DTSTART;TZID=America/Chicago:20250207T080000
DTEND;TZID=America/Chicago:20250207T150000
DTSTAMP:20260425T062307
CREATED:20250126T144418Z
LAST-MODIFIED:20250126T144449Z
UID:5725-1738915200-1738940400@www.carnegiecarnival.org
SUMMARY:Indoor Rummage Sale with Addison
DESCRIPTION:Friday February 7Saturday February 88:00 am – 3:00 pm
URL:https://www.carnegiecarnival.org/event/indoor-rummage-sale/
LOCATION:Somerville Community Center\, 48 Main Street\, Somerville\, 35670\, United States
CATEGORIES:Princess
END:VEVENT
BEGIN:VEVENT
DTSTART;TZID=America/Chicago:20250207T190000
DTEND;TZID=America/Chicago:20250207T220000
DTSTAMP:20260425T062307
CREATED:20240117T194140Z
LAST-MODIFIED:20250207T000135Z
UID:5050-1738954800-1738965600@www.carnegiecarnival.org
SUMMARY:NEW LOCATION- Drag Queen Bingo
DESCRIPTION:Hear ye\, hear ye!!!\nThe event you have all been waiting for…Drag Queen Bingo hosted by Kristin Orlando.\nNEW LOCATION: Join us at The Magnolia Room\, 216 Moulton St E\, Decatur\, AL 35601 on Feb 7th\, 7-10 pm  (doors open at 6:30 pm) as The Queens have officially arrived! Seats are limited so reserve yours today!\n$25 Admission (includes 3 cards)\n$250 Reserved Table (includes 8 admissions and 24 cards)\nReservation deadline Midnight February 5.\nCash Bar. Additional cards 3/$10\nBe sure to comment “BINGO” and how many tickets you would like and payment can be made below.\nFor Tickets & Reservations contact Taylor Martin\nVenmo- @brannontaylor
URL:https://www.carnegiecarnival.org/event/drag-queen-bingo/
LOCATION:The Magnolia Room\, 216 Moulton Street E\, Decatur\, AL\, 35601\, United States
CATEGORIES:King
ATTACH;FMTTYPE=image/jpeg:https://www.carnegiecarnival.org/wp-content/uploads/2018/01/event_tn_king.jpg
GEO:34.6041501;-86.9843329
X-APPLE-STRUCTURED-LOCATION;VALUE=URI;X-ADDRESS=DESCRIPTION:Hear ye hear ye!!!\nThe event you have all been waiting for…Drag Queen Bingo hosted by Kristin Orlando.\nNEW  Join us at The Magnolia Room 216 Moulton St E Decatur AL 35601 on Feb 7th 7-10 pm  (doors open at 6:30 pm) as The Queens have officially arrived! Seats are limited so reserve yours today!\n$25 Admission (includes 3 cards)\n$250 Reserved Table (includes 8 admissions and 24 cards)\nReservation deadline Midnight February 5.\nCash Bar. Additional cards 3/$10\nBe sure to comment “BINGO” and how many tickets you would like and payment can be made below.\nFor Tickets & Reservations contact Taylor Martin\nVenmo- @brannontaylor;X-APPLE-RADIUS=500;X-TITLE=216 Moulton Street E:geo:-86.9843329,34.6041501
END:VEVENT
BEGIN:VEVENT
DTSTART;TZID=America/Chicago:20250208T110000
DTEND;TZID=America/Chicago:20250208T140000
DTSTAMP:20260425T062307
CREATED:20250130T015749Z
LAST-MODIFIED:20250130T015749Z
UID:5787-1739012400-1739023200@www.carnegiecarnival.org
SUMMARY:Bank Street Grill Spirit Brunch
DESCRIPTION:Come on down to Bank Street Grill for a great brunch and show your support for Nancy Case for Queen XIV!Be sure to check out all the raffles while you’re there!
URL:https://www.carnegiecarnival.org/event/bank-street-grill-spirit-brunch/
LOCATION:Bank Street Grill\, 719 Bank St NE\, Decatur\, AL\, 35601\, United States
CATEGORIES:Queen
GEO:34.612892;-86.9853784
X-APPLE-STRUCTURED-LOCATION;VALUE=URI;X-ADDRESS=Bank Street Grill 719 Bank St NE Decatur AL 35601 United States;X-APPLE-RADIUS=500;X-TITLE=719 Bank St NE:geo:-86.9853784,34.612892
END:VEVENT
BEGIN:VEVENT
DTSTART;TZID=America/Chicago:20250208T110000
DTEND;TZID=America/Chicago:20250208T160000
DTSTAMP:20260425T062307
CREATED:20250131T002652Z
LAST-MODIFIED:20250131T002652Z
UID:5814-1739012400-1739030400@www.carnegiecarnival.org
SUMMARY:Pre-Super Bowl Spirit Day at the Brick
DESCRIPTION:Join us for a PRE-Super Bowl Spirit Day at The Brick to support Harris Penley for CASA/Carnegie Prince CASA & Carnegie Carnival Prince & Princess Candidate EventsSee details below!! Thank you for your support!!!
URL:https://www.carnegiecarnival.org/event/pre-super-bowl-spirit-day-at-the-brick/
CATEGORIES:Prince
END:VEVENT
BEGIN:VEVENT
DTSTART;TZID=America/Chicago:20250208T160000
DTEND;TZID=America/Chicago:20250208T220000
DTSTAMP:20260425T062307
CREATED:20250120T174351Z
LAST-MODIFIED:20250120T174351Z
UID:5698-1739030400-1739052000@www.carnegiecarnival.org
SUMMARY:Brick Deli Spirit Night with Jackson
DESCRIPTION:Come on out for great food and a fun time at the Brick for Spirit night on Saturday 2-8 beginning at 4! Proceeds benefit Carnegie and CASA of North Alabama and Jackson Stephens for Carnegie Prince!
URL:https://www.carnegiecarnival.org/event/brick-deli-spirit-night-with-jackson/
LOCATION:The Brick Deli\, 112 East Moulton Street\, Decatur\, AL\, 35601\, United States
CATEGORIES:Prince
GEO:34.6041777;-86.9859025
X-APPLE-STRUCTURED-LOCATION;VALUE=URI;X-ADDRESS=The Brick Deli 112 East Moulton Street Decatur AL 35601 United States;X-APPLE-RADIUS=500;X-TITLE=112 East Moulton Street:geo:-86.9859025,34.6041777
END:VEVENT
BEGIN:VEVENT
DTSTART;TZID=America/Chicago:20250208T170000
DTEND;TZID=America/Chicago:20250208T200000
DTSTAMP:20260425T062307
CREATED:20250126T145150Z
LAST-MODIFIED:20250126T145150Z
UID:5732-1739034000-1739044800@www.carnegiecarnival.org
SUMMARY:Bank Street Grill Spirit Night with Trae
DESCRIPTION:
URL:https://www.carnegiecarnival.org/event/bank-street-grill-spirit-night-with-trae/
LOCATION:Bank Street Grill\, 719 Bank St NE\, Decatur\, AL\, 35601\, United States
CATEGORIES:Prince
GEO:34.612892;-86.9853784
X-APPLE-STRUCTURED-LOCATION;VALUE=URI;X-ADDRESS=Bank Street Grill 719 Bank St NE Decatur AL 35601 United States;X-APPLE-RADIUS=500;X-TITLE=719 Bank St NE:geo:-86.9853784,34.612892
END:VEVENT
BEGIN:VEVENT
DTSTART;TZID=America/Chicago:20250209T130000
DTEND;TZID=America/Chicago:20250209T170000
DTSTAMP:20260425T062307
CREATED:20250119T184004Z
LAST-MODIFIED:20250119T184004Z
UID:5673-1739106000-1739120400@www.carnegiecarnival.org
SUMMARY:Harris Valentine Gram
DESCRIPTION:What are you getting for your Valentine??  How about a Valentine Gram delivered by Harris Penley?! Thank you to Simpson’s Florist for your donation! Thank you for supporting Harris Penley for CASA/ Carnegie Prince!!! See details below.
URL:https://www.carnegiecarnival.org/event/harris-valentine-gram/
CATEGORIES:Prince
END:VEVENT
BEGIN:VEVENT
DTSTART;TZID=America/Chicago:20250209T170000
DTEND;TZID=America/Chicago:20250209T210000
DTSTAMP:20260425T062307
CREATED:20250130T015458Z
LAST-MODIFIED:20250130T015458Z
UID:5785-1739120400-1739134800@www.carnegiecarnival.org
SUMMARY:BB Perrins Superbowl Sunday Spirit Night with Taylor
DESCRIPTION:
URL:https://www.carnegiecarnival.org/event/bb-perrins-superbowl-sunday-spirit-night-with-taylor/
LOCATION:BB Perrin’s\, 608 Holly St NE\, Decatur\, AL\, 35601\, United States
CATEGORIES:King
END:VEVENT
END:VCALENDAR