BEGIN:VCALENDAR
VERSION:2.0
PRODID:-//Carnegie Carnival - ECPv6.2.9//NONSGML v1.0//EN
CALSCALE:GREGORIAN
METHOD:PUBLISH
X-ORIGINAL-URL:https://www.carnegiecarnival.org
X-WR-CALDESC:Events for Carnegie Carnival
REFRESH-INTERVAL;VALUE=DURATION:PT1H
X-Robots-Tag:noindex
X-PUBLISHED-TTL:PT1H
BEGIN:VTIMEZONE
TZID:America/Chicago
BEGIN:DAYLIGHT
TZOFFSETFROM:-0600
TZOFFSETTO:-0500
TZNAME:CDT
DTSTART:20250309T080000
END:DAYLIGHT
BEGIN:STANDARD
TZOFFSETFROM:-0500
TZOFFSETTO:-0600
TZNAME:CST
DTSTART:20251102T070000
END:STANDARD
END:VTIMEZONE
BEGIN:VEVENT
DTSTART;TZID=America/Chicago:20250224T160000
DTEND;TZID=America/Chicago:20250224T210000
DTSTAMP:20260425T062326
CREATED:20250219T000739Z
LAST-MODIFIED:20250219T000739Z
UID:5930-1740412800-1740430800@www.carnegiecarnival.org
SUMMARY:Mellow Mushroom Spirit Night with Taylor
DESCRIPTION:
URL:https://www.carnegiecarnival.org/event/mellow-mushroom-spirit-night-with-taylor-2/
LOCATION:Mellow Mushroom\, 202 Moulton St E\, Decatur\, AL\, 35601\, United States
CATEGORIES:King
END:VEVENT
BEGIN:VEVENT
DTSTART;TZID=America/Chicago:20250224T160000
DTEND;TZID=America/Chicago:20250224T220000
DTSTAMP:20260425T062326
CREATED:20250209T221657Z
LAST-MODIFIED:20250219T000413Z
UID:5873-1740412800-1740434400@www.carnegiecarnival.org
SUMMARY:Dairy Queen Spirit Night in Priceville
DESCRIPTION:New date due to weather!**Monday\, February 24 from 4:00 pm to 10:00 pm** \nA portion of sales will be donated to Carnegie and CASA and we will have raffles and silent auctions available also!Come out and join us! 
URL:https://www.carnegiecarnival.org/event/dairy-queen-spirit-night-in-priceville/
LOCATION:Dairy Queen (Priceville)\, 3219 Point Mallard Pkwy SE\, Priceville\, AL\, 35603\, United States
CATEGORIES:Prince,Princess
END:VEVENT
BEGIN:VEVENT
DTSTART;TZID=America/Chicago:20250224T180000
DTEND;TZID=America/Chicago:20250224T210000
DTSTAMP:20260425T062326
CREATED:20250224T212527Z
LAST-MODIFIED:20250224T212527Z
UID:5938-1740420000-1740430800@www.carnegiecarnival.org
SUMMARY:Moe's BBQ Spirit Night with Stella
DESCRIPTION:
URL:https://www.carnegiecarnival.org/event/moes-bbq-spirit-night-with-stella/
LOCATION:Moe’s BBQ Decatur\, Decatur\, AL\, 35601\, United States
CATEGORIES:Lady Barks-A-Lot
END:VEVENT
BEGIN:VEVENT
DTSTART;TZID=America/Chicago:20250225T180000
DTEND;TZID=America/Chicago:20250225T200000
DTSTAMP:20260425T062326
CREATED:20250215T202242Z
LAST-MODIFIED:20250215T202251Z
UID:5919-1740506400-1740513600@www.carnegiecarnival.org
SUMMARY:Taco Tuesday Las Vias Spirit Night with Cheyenne
DESCRIPTION:TACO TUESDAY \nWhat’s better than Taco Tuesday?! Doing it for a good cause!!! Come out to Las Vias (Beltline location) and support Cheyenne for Carnegie Queen as she raises money for Carnegie Visual Arts Center!!
URL:https://www.carnegiecarnival.org/event/taco-tuesday-las-vias-spirit-night-with-cheyenne/
LOCATION:Las Vias on the Beltline\, 1000 Beltline Rd SW\, Ste Q\, Decatur\, 35601\, United States
CATEGORIES:Queen
END:VEVENT
BEGIN:VEVENT
DTSTART;TZID=America/Chicago:20250225T180000
DTEND;TZID=America/Chicago:20250225T210000
DTSTAMP:20260425T062326
CREATED:20250215T202402Z
LAST-MODIFIED:20250215T202402Z
UID:5921-1740506400-1740517200@www.carnegiecarnival.org
SUMMARY:Let's Make A Deal BINGO
DESCRIPTION:The fun of the game show Let’s Make A Deal combined with the exhilaration of BINGO! Bingo will be played from 6-8 and the winners from each round will draw for prizes starting at 8. They will be given one opportunity to exchange for another unknown prize or keep the one they have in hopes of trading up instead of down.This will be a fun twist on traditional bingo with all kinds of fun surprises throughout the evening. Definitely an event you don’t want to miss.$25 will get you 9 cards (3 sheets) to play as you wish with $10 for each additional sheet.
URL:https://www.carnegiecarnival.org/event/lets-make-a-deal-bingo/
LOCATION:Carnegie Visual Arts Center\, 207 Church Street\, NE\, Decatur\, AL\, 35601\, United States
CATEGORIES:Queen
GEO:34.6116295;-86.9820525
X-APPLE-STRUCTURED-LOCATION;VALUE=URI;X-ADDRESS=Carnegie Visual Arts Center 207 Church Street NE Decatur AL 35601 United States;X-APPLE-RADIUS=500;X-TITLE=207 Church Street\, NE:geo:-86.9820525,34.6116295
END:VEVENT
BEGIN:VEVENT
DTSTART;TZID=America/Chicago:20250226T160000
DTEND;TZID=America/Chicago:20250226T200000
DTSTAMP:20260425T062326
CREATED:20250226T142529Z
LAST-MODIFIED:20250226T142529Z
UID:5944-1740585600-1740600000@www.carnegiecarnival.org
SUMMARY:Brick Deli Spirit Night with Ella
DESCRIPTION:Final spirit night! Winners will be drawn at 6 for all raffles!
URL:https://www.carnegiecarnival.org/event/brick-deli-spirit-night-with-ella/
LOCATION:The Brick Deli\, 112 East Moulton Street\, Decatur\, AL\, 35601\, United States
CATEGORIES:Princess
GEO:34.6041777;-86.9859025
X-APPLE-STRUCTURED-LOCATION;VALUE=URI;X-ADDRESS=The Brick Deli 112 East Moulton Street Decatur AL 35601 United States;X-APPLE-RADIUS=500;X-TITLE=112 East Moulton Street:geo:-86.9859025,34.6041777
END:VEVENT
BEGIN:VEVENT
DTSTART;TZID=America/Chicago:20250226T180000
DTEND;TZID=America/Chicago:20250226T200000
DTSTAMP:20260425T062326
CREATED:20250206T003643Z
LAST-MODIFIED:20250206T003643Z
UID:5863-1740592800-1740600000@www.carnegiecarnival.org
SUMMARY:Bank Street Grill Spirit Night FUR Hector
DESCRIPTION:Join us at Bank Street Grill FUR a Spirit Night to support Hector for Carnegie Sir Bow Wow!\nWe will be hanging out from 6p-9p so come celebrate Carnegie Carnival and enjoy some delicious food and drink!\nTell ’em Hector sent ya!
URL:https://www.carnegiecarnival.org/event/bank-street-grill-spirit-night-fur-hector/
LOCATION:Bank Street Grill\, 719 Bank St NE\, Decatur\, AL\, 35601\, United States
CATEGORIES:Sir Bow-Wow
GEO:34.612892;-86.9853784
X-APPLE-STRUCTURED-LOCATION;VALUE=URI;X-ADDRESS=Bank Street Grill 719 Bank St NE Decatur AL 35601 United States;X-APPLE-RADIUS=500;X-TITLE=719 Bank St NE:geo:-86.9853784,34.612892
END:VEVENT
BEGIN:VEVENT
DTSTART;TZID=America/Chicago:20250227T160000
DTEND;TZID=America/Chicago:20250227T200000
DTSTAMP:20260425T062326
CREATED:20250126T145934Z
LAST-MODIFIED:20250126T145934Z
UID:5761-1740672000-1740686400@www.carnegiecarnival.org
SUMMARY:Brick Deli Spirit Night with Trae
DESCRIPTION:
URL:https://www.carnegiecarnival.org/event/brick-deli-spirit-night-with-trae/
LOCATION:The Brick Deli\, 112 East Moulton Street\, Decatur\, AL\, 35601\, United States
CATEGORIES:Prince
GEO:34.6041777;-86.9859025
X-APPLE-STRUCTURED-LOCATION;VALUE=URI;X-ADDRESS=The Brick Deli 112 East Moulton Street Decatur AL 35601 United States;X-APPLE-RADIUS=500;X-TITLE=112 East Moulton Street:geo:-86.9859025,34.6041777
END:VEVENT
BEGIN:VEVENT
DTSTART;TZID=America/Chicago:20250227T160000
DTEND;TZID=America/Chicago:20250227T210000
DTSTAMP:20260425T062326
CREATED:20250227T010317Z
LAST-MODIFIED:20250227T010317Z
UID:5946-1740672000-1740690000@www.carnegiecarnival.org
SUMMARY:Alfonso's Spirit Night with Ella
DESCRIPTION:
URL:https://www.carnegiecarnival.org/event/alfonsos-spirit-night-with-ella-2/
LOCATION:Alfonso’s\, 725 Beltline Rd SW Suite E\, Decatur\, AL\, 35603\, United States
CATEGORIES:Princess
END:VEVENT
BEGIN:VEVENT
DTSTART;TZID=America/Chicago:20250227T180000
DTEND;TZID=America/Chicago:20250227T200000
DTSTAMP:20260425T062326
CREATED:20250209T220827Z
LAST-MODIFIED:20250209T220827Z
UID:5870-1740679200-1740686400@www.carnegiecarnival.org
SUMMARY:Final Spirit Night at Bank Street with Nancy
DESCRIPTION:Come out and join us on Thursday\, February 27th\, for a final Spirit Night in support of Nancy Case for Queen XVI! It is your last chance to get more tickets in for your favorite raffles because the winners will be drawn at this event!
URL:https://www.carnegiecarnival.org/event/final-spirit-night-at-bank-street-with-nancy/
LOCATION:Bank Street Grill\, 719 Bank St NE\, Decatur\, AL\, 35601\, United States
CATEGORIES:Queen
GEO:34.612892;-86.9853784
X-APPLE-STRUCTURED-LOCATION;VALUE=URI;X-ADDRESS=Bank Street Grill 719 Bank St NE Decatur AL 35601 United States;X-APPLE-RADIUS=500;X-TITLE=719 Bank St NE:geo:-86.9853784,34.612892
END:VEVENT
BEGIN:VEVENT
DTSTART;TZID=America/Chicago:20250227T180000
DTEND;TZID=America/Chicago:20250227T210000
DTSTAMP:20260425T062326
CREATED:20250227T013937Z
LAST-MODIFIED:20250227T013937Z
UID:5948-1740679200-1740690000@www.carnegiecarnival.org
SUMMARY:Final Spirit Night with Cheyenne and Melek
DESCRIPTION:Join us at Moes BBQ in Downtown Decatur for our FINAL Spirit Night! This will be your LAST CHANCE to enter for Raffles and winners will be announced at 8:00 right before Karaoke!!
URL:https://www.carnegiecarnival.org/event/final-spirit-night-with-cheyenne-and-melek/
LOCATION:Moe’s BBQ Decatur\, Decatur\, AL\, 35601\, United States
CATEGORIES:King,Queen
END:VEVENT
END:VCALENDAR