BEGIN:VCALENDAR
VERSION:2.0
PRODID:-//Carnegie Carnival - ECPv6.2.9//NONSGML v1.0//EN
CALSCALE:GREGORIAN
METHOD:PUBLISH
X-WR-CALNAME:Carnegie Carnival
X-ORIGINAL-URL:https://www.carnegiecarnival.org
X-WR-CALDESC:Events for Carnegie Carnival
REFRESH-INTERVAL;VALUE=DURATION:PT1H
X-Robots-Tag:noindex
X-PUBLISHED-TTL:PT1H
BEGIN:VTIMEZONE
TZID:America/Chicago
BEGIN:DAYLIGHT
TZOFFSETFROM:-0600
TZOFFSETTO:-0500
TZNAME:CDT
DTSTART:20250309T080000
END:DAYLIGHT
BEGIN:STANDARD
TZOFFSETFROM:-0500
TZOFFSETTO:-0600
TZNAME:CST
DTSTART:20251102T070000
END:STANDARD
BEGIN:DAYLIGHT
TZOFFSETFROM:-0600
TZOFFSETTO:-0500
TZNAME:CDT
DTSTART:20260308T080000
END:DAYLIGHT
BEGIN:STANDARD
TZOFFSETFROM:-0500
TZOFFSETTO:-0600
TZNAME:CST
DTSTART:20261101T070000
END:STANDARD
END:VTIMEZONE
BEGIN:VEVENT
DTSTART;TZID=America/Chicago:20251231T193000
DTEND;TZID=America/Chicago:20260101T013000
DTSTAMP:20260424T094940
CREATED:20251231T230455Z
LAST-MODIFIED:20251231T230912Z
UID:6149-1767209400-1767231000@www.carnegiecarnival.org
SUMMARY:New Year's Benefit Gala
DESCRIPTION:Celebrate the new year with us at the Historic Roundhouse in Huntsville and support princess candidate Morgan Melicks! Proceeds benefit CASA of North Alabama and the Carnegie Visual Arts Center.
URL:https://www.carnegiecarnival.org/event/new-years-benefit-gala/
LOCATION:Historic Round House\, 398 Monroe Street Northwest\, Huntsville\, Alabama\, United States
END:VEVENT
BEGIN:VEVENT
DTSTART;TZID=America/Chicago:20260102T090000
DTEND;TZID=America/Chicago:20260102T190000
DTSTAMP:20260424T094940
CREATED:20251231T213855Z
LAST-MODIFIED:20251231T213855Z
UID:6146-1767344400-1767380400@www.carnegiecarnival.org
SUMMARY:Iris Jane Boutique New Year Celebration
DESCRIPTION:Celebrate the new year with us by shopping at Iris Jane Boutique on January 2nd. Enjoy grab bags\, sweet treats\, and refreshments! Everything in-store will be 30% off! A portion of sales will be donated to Phoenix McCaig in support of her run for Carnegie Princess.
URL:https://www.carnegiecarnival.org/event/iris-jane-boutique-new-year-celebration/
LOCATION:Iris Jane Boutique\, 1380 Old Highway 24\, Trinity\, United States
END:VEVENT
BEGIN:VEVENT
DTSTART;TZID=America/Chicago:20260103T083000
DTEND;TZID=America/Chicago:20260103T093000
DTSTAMP:20260424T094940
CREATED:20251231T202116Z
LAST-MODIFIED:20251231T214414Z
UID:6143-1767429000-1767432600@www.carnegiecarnival.org
SUMMARY:Meters for Maddie Crossfit Event
DESCRIPTION:Come support princess candidate Maddie Dodson by participating in a crossfit event at 8:30 am at CrossFit Protocol! $25 per person\, teams of 4. All proceeds benefit CASA of North Alabama and the Carnegie Visual Arts Center. Reserve your spot through Venmo @maddelyndoson17 or pay in-person the day of!
URL:https://www.carnegiecarnival.org/event/meters-for-maddie-crossfit-event/
CATEGORIES:Princess
END:VEVENT
END:VCALENDAR