BEGIN:VCALENDAR
VERSION:2.0
PRODID:-//Carnegie Carnival - ECPv6.2.9//NONSGML v1.0//EN
CALSCALE:GREGORIAN
METHOD:PUBLISH
X-WR-CALNAME:Carnegie Carnival
X-ORIGINAL-URL:https://www.carnegiecarnival.org
X-WR-CALDESC:Events for Carnegie Carnival
REFRESH-INTERVAL;VALUE=DURATION:PT1H
X-Robots-Tag:noindex
X-PUBLISHED-TTL:PT1H
BEGIN:VTIMEZONE
TZID:America/Chicago
BEGIN:DAYLIGHT
TZOFFSETFROM:-0600
TZOFFSETTO:-0500
TZNAME:CDT
DTSTART:20260308T080000
END:DAYLIGHT
BEGIN:STANDARD
TZOFFSETFROM:-0500
TZOFFSETTO:-0600
TZNAME:CST
DTSTART:20261101T070000
END:STANDARD
END:VTIMEZONE
BEGIN:VEVENT
DTSTART;TZID=America/Chicago:20260107T180000
DTEND;TZID=America/Chicago:20260107T210000
DTSTAMP:20260424T112136
CREATED:20260103T214735Z
LAST-MODIFIED:20260103T214735Z
UID:6169-1767808800-1767819600@www.carnegiecarnival.org
SUMMARY:Spirit Night at Bank Street Grill with Trinket
DESCRIPTION:Come out and dine at Bank Street Grill. A portion of the proceeds will count toward Trinket’s Sir BowWow campaign and will support Decatur Animal Services and the Carnegie Visual Arts Center. Have a delicious dinner and check out all of the fantastic raffle items available!
URL:https://www.carnegiecarnival.org/event/spirit-night-at-bank-street-grill-with-trinket/
LOCATION:Bank Street Grill\, 719 Bank St NE\, Decatur\, AL\, 35601\, United States
GEO:34.612892;-86.9853784
X-APPLE-STRUCTURED-LOCATION;VALUE=URI;X-ADDRESS=Bank Street Grill 719 Bank St NE Decatur AL 35601 United States;X-APPLE-RADIUS=500;X-TITLE=719 Bank St NE:geo:-86.9853784,34.612892
END:VEVENT
BEGIN:VEVENT
DTSTART;TZID=America/Chicago:20260108T160000
DTEND;TZID=America/Chicago:20260108T200000
DTSTAMP:20260424T112136
CREATED:20251230T224547Z
LAST-MODIFIED:20251231T200110Z
UID:6113-1767888000-1767902400@www.carnegiecarnival.org
SUMMARY:Spirit Night at the Brick with Bella
DESCRIPTION:Come meet Lady Barks-a-Lot Candidate Bella for Spirit Night at the Brick from 4-8pm!
URL:https://www.carnegiecarnival.org/event/spirit-night-at-the-brick-with-bella/
LOCATION:The Brick Deli\, 112 East Moulton Street\, Decatur\, AL\, 35601\, United States
CATEGORIES:Lady Barks-A-Lot
GEO:34.6041777;-86.9859025
X-APPLE-STRUCTURED-LOCATION;VALUE=URI;X-ADDRESS=The Brick Deli 112 East Moulton Street Decatur AL 35601 United States;X-APPLE-RADIUS=500;X-TITLE=112 East Moulton Street:geo:-86.9859025,34.6041777
END:VEVENT
BEGIN:VEVENT
DTSTART;TZID=America/Chicago:20260110T110000
DTEND;TZID=America/Chicago:20260110T160000
DTSTAMP:20260424T112136
CREATED:20260103T223835Z
LAST-MODIFIED:20260103T223835Z
UID:6186-1768042800-1768060800@www.carnegiecarnival.org
SUMMARY:Spirit Day at The Brick with Emma
DESCRIPTION:Come out & support princess candidate Emma Hensley for Spirit Day at the Brick from 11am-4pm! Proceeds benefit CASA and the Carnegie Visual Arts Center!
URL:https://www.carnegiecarnival.org/event/spirit-day-at-the-brick-with-emma/
LOCATION:The Brick Deli\, 112 East Moulton Street\, Decatur\, AL\, 35601\, United States
CATEGORIES:Princess
GEO:34.6041777;-86.9859025
X-APPLE-STRUCTURED-LOCATION;VALUE=URI;X-ADDRESS=The Brick Deli 112 East Moulton Street Decatur AL 35601 United States;X-APPLE-RADIUS=500;X-TITLE=112 East Moulton Street:geo:-86.9859025,34.6041777
END:VEVENT
BEGIN:VEVENT
DTSTART;TZID=America/Chicago:20260110T180000
DTEND;TZID=America/Chicago:20260110T213000
DTSTAMP:20260424T112136
CREATED:20181228T183144Z
LAST-MODIFIED:20260105T233953Z
UID:1849-1768068000-1768080600@www.carnegiecarnival.org
SUMMARY:Twelfth Night Celebration
DESCRIPTION:Join us for the Carnegie Carnival 2026 Twelfth Night Celebration!\n\nTwelfth Night is our kick-off event for Carnegie Carnival 2026! We will be introducing our Crewes\, Prince and Princess\, and Sir Bow Wow and Lady Barks-A-Lot candidates.\n\nFacebook Live Times:Sir Bow-Wow & Lady Barks-A-Lot: 6:00 p.m.-Cross Eyed OwlPrince & Princess: 7:00 p.m.-The Brick DeliCrewes: 8:00 p.m.- The Carnegie Visual Arts Center- Appetizers & Cash Bar. Doors open at 7:00.\n\nThis year\, our Crewes will be competing for the right to name their King & Queen on the night of the Royal Coronation Ceremony\, February 14th\, at the Princess Theatre!
URL:https://www.carnegiecarnival.org/event/twelfth-night-celebration/
LOCATION:The Brick Deli\, 112 East Moulton Street\, Decatur\, AL\, 35601\, United States
ATTACH;FMTTYPE=image/jpeg:https://www.carnegiecarnival.org/wp-content/uploads/2017/12/share_carnegiecarnival_twelfthnight.jpg
GEO:34.6041777;-86.9859025
X-APPLE-STRUCTURED-LOCATION;VALUE=URI;X-ADDRESS=The Brick Deli 112 East Moulton Street Decatur AL 35601 United States;X-APPLE-RADIUS=500;X-TITLE=112 East Moulton Street:geo:-86.9859025,34.6041777
END:VEVENT
BEGIN:VEVENT
DTSTART;TZID=America/Chicago:20260111T140000
DTEND;TZID=America/Chicago:20260111T160000
DTSTAMP:20260424T112136
CREATED:20260103T222454Z
LAST-MODIFIED:20260103T222454Z
UID:6179-1768140000-1768147200@www.carnegiecarnival.org
SUMMARY:Inaugural Chicken Drop 2026
DESCRIPTION:Join your favorite Rowdy Neighbors for the inaugural chicken drop! Begins at 2pm at 6 Pockets! Proceeds benefit the Carnegie Visual Arts Center. \n9 Ball Break Contest – 50/50 Split\nHighest number made on 3 racks
URL:https://www.carnegiecarnival.org/event/inaugural-chicken-drop-2026/
END:VEVENT
END:VCALENDAR