BEGIN:VCALENDAR
VERSION:2.0
PRODID:-//Carnegie Carnival - ECPv6.2.9//NONSGML v1.0//EN
CALSCALE:GREGORIAN
METHOD:PUBLISH
X-ORIGINAL-URL:https://www.carnegiecarnival.org
X-WR-CALDESC:Events for Carnegie Carnival
REFRESH-INTERVAL;VALUE=DURATION:PT1H
X-Robots-Tag:noindex
X-PUBLISHED-TTL:PT1H
BEGIN:VTIMEZONE
TZID:America/Chicago
BEGIN:DAYLIGHT
TZOFFSETFROM:-0600
TZOFFSETTO:-0500
TZNAME:CDT
DTSTART:20260308T080000
END:DAYLIGHT
BEGIN:STANDARD
TZOFFSETFROM:-0500
TZOFFSETTO:-0600
TZNAME:CST
DTSTART:20261101T070000
END:STANDARD
END:VTIMEZONE
BEGIN:VEVENT
DTSTART;TZID=America/Chicago:20260203T160000
DTEND;TZID=America/Chicago:20260203T210000
DTSTAMP:20260424T051243
CREATED:20260128T172324Z
LAST-MODIFIED:20260128T172324Z
UID:6435-1770134400-1770152400@www.carnegiecarnival.org
SUMMARY:Spirit Night at Alfonso's for Bella
DESCRIPTION:Join us at Alfonso’s on Tuesday evening to enjoy some great food and support Lady Barks-a-lot candidate Bella. Make sure to check out all the raffles and goodies we have for sale! Thanks for your support.
URL:https://www.carnegiecarnival.org/event/spirit-night-at-alfonsos-for-bella/
LOCATION:Alfonso’s\, 725 Beltline Rd SW Suite E\, Decatur\, AL\, 35603\, United States
CATEGORIES:Lady Barks-A-Lot
END:VEVENT
BEGIN:VEVENT
DTSTART;TZID=America/Chicago:20260203T170000
DTEND;TZID=America/Chicago:20260203T213000
DTSTAMP:20260424T051243
CREATED:20260203T184354Z
LAST-MODIFIED:20260203T184354Z
UID:6454-1770138000-1770154200@www.carnegiecarnival.org
SUMMARY:Taco Tuesday with the Merry Widows
DESCRIPTION:Come out and join the Merry Widows for Taco Tuesday at Las Vias from 5pm-close! A night to come together\, share a meal\, and support the amazing women in our community. Proceeds benefit the Carnegie Visual Arts Center.
URL:https://www.carnegiecarnival.org/event/taco-tuesday-with-the-merry-widows/
LOCATION:Las Vias on the Beltline\, 1000 Beltline Rd SW\, Ste Q\, Decatur\, 35601\, United States
END:VEVENT
BEGIN:VEVENT
DTSTART;TZID=America/Chicago:20260203T180000
DTEND;TZID=America/Chicago:20260203T200000
DTSTAMP:20260424T051243
CREATED:20260203T211539Z
LAST-MODIFIED:20260203T211539Z
UID:6467-1770141600-1770148800@www.carnegiecarnival.org
SUMMARY:Spirit Night at Bank Street Grill for Emma
DESCRIPTION:Come join us for Spirit night at Bank Street Grill this Tuesday\, February 3rd from 6-8! Swing by downtown and grab some delicious food! Dine-in or Order to go. Raffles will be available! All proceeds benefit CASA and the Carnegie Visual Arts Center.
URL:https://www.carnegiecarnival.org/event/spirit-night-at-bank-street-grill-for-emma/
LOCATION:Bank Street Grill\, 719 Bank St NE\, Decatur\, AL\, 35601\, United States
GEO:34.612892;-86.9853784
X-APPLE-STRUCTURED-LOCATION;VALUE=URI;X-ADDRESS=Bank Street Grill 719 Bank St NE Decatur AL 35601 United States;X-APPLE-RADIUS=500;X-TITLE=719 Bank St NE:geo:-86.9853784,34.612892
END:VEVENT
BEGIN:VEVENT
DTSTART;TZID=America/Chicago:20260205T160000
DTEND;TZID=America/Chicago:20260205T200000
DTSTAMP:20260424T051243
CREATED:20260115T222536Z
LAST-MODIFIED:20260115T222602Z
UID:6357-1770307200-1770321600@www.carnegiecarnival.org
SUMMARY:Spirit Night at the Brick with Gann Faulkner
DESCRIPTION:Join us for Spirit night at the Brick on Thursday\, February 5th\, from 4-8pm! Enjoy good food and fun! This event supports Prince candidate Gann Faulkner. All proceeds benefit the Carnegie Visual Arts Center.
URL:https://www.carnegiecarnival.org/event/spirit-night-at-the-brick-with-gann-faulkner/
LOCATION:The Brick Deli\, 112 East Moulton Street\, Decatur\, AL\, 35601\, United States
GEO:34.6041777;-86.9859025
X-APPLE-STRUCTURED-LOCATION;VALUE=URI;X-ADDRESS=The Brick Deli 112 East Moulton Street Decatur AL 35601 United States;X-APPLE-RADIUS=500;X-TITLE=112 East Moulton Street:geo:-86.9859025,34.6041777
END:VEVENT
BEGIN:VEVENT
DTSTART;TZID=America/Chicago:20260206T160000
DTEND;TZID=America/Chicago:20260206T200000
DTSTAMP:20260424T051243
CREATED:20260121T205723Z
LAST-MODIFIED:20260122T183219Z
UID:6402-1770393600-1770408000@www.carnegiecarnival.org
SUMMARY:Spirit Night at Panera Bread for Lily and Balto
DESCRIPTION:Join us for a special Fundraiser Night at Panera Bread on February 6th and enjoy some great food while supporting an amazing cause! Proceeds benefit the Carnegie Visual Arts Center and Decatur Animal Services. This fundraiser supports Balto\, running for Sir Bow Wow\, and Lily\, running for Lady Barks-a-lot. Your dinner plans can make a difference—so grab your friends\, bring the family\, and help us support two great causes all in one night.
URL:https://www.carnegiecarnival.org/event/fundraiser-night-at-panera-bread/
CATEGORIES:Lady Barks-A-Lot,Sir Bow-Wow
END:VEVENT
BEGIN:VEVENT
DTSTART;TZID=America/Chicago:20260206T170000
DTEND;TZID=America/Chicago:20260206T200000
DTSTAMP:20260424T051243
CREATED:20260203T200120Z
LAST-MODIFIED:20260203T202110Z
UID:6456-1770397200-1770408000@www.carnegiecarnival.org
SUMMARY:Mahjong with Murphy at Hailos
DESCRIPTION:Join us for Mardi Mahjong with Murphy on Friday\, February 6th from 5-8 at Hailos! Beginner friendly. $45/per person- learn to play starting at 5 pm. $30/per person for mini tournament starting at 7 pm. This event supports princess candidate Murphy. Proceeds benefit CASA of North Alabama and the Carnegie Visual Arts Center.
URL:https://www.carnegiecarnival.org/event/mahjong-with-murphy-at-hailos/
LOCATION:Hailos\, 722 Bank St NE\, Decatur\, AL\, 35601\, United States
CATEGORIES:Princess
END:VEVENT
BEGIN:VEVENT
DTSTART;TZID=America/Chicago:20260206T180000
DTEND;TZID=America/Chicago:20260206T210000
DTSTAMP:20260424T051243
CREATED:20260105T225145Z
LAST-MODIFIED:20260105T225145Z
UID:6198-1770400800-1770411600@www.carnegiecarnival.org
SUMMARY:Daddy-Daughter/Mother-Son Date Night
DESCRIPTION:Join us at the Carnegie Visual Arts Center on Friday\, Febuary 6th at 6 pm for Daddy-Daughter/Mother-Son date night! Enjoy a special evening including dinner\, dancing\, crafts\, & fun! Seating is limited\, reserve your spot today. $5o per couple (extra $15 for additional children)! This event supports Princess Candidate Emma Hensley McMasters. Proceeds benefit CASA of North Alabama & the Carnegie Visual Arts Center! Reserve tickets by visiting and completely filling out this Google Form.
URL:https://www.carnegiecarnival.org/event/daddy-daughter-mother-son-date-night/
LOCATION:Carnegie Visual Arts Center\, 207 Church Street\, NE\, Decatur\, AL\, 35601\, United States
CATEGORIES:Princess
GEO:34.6116295;-86.9820525
X-APPLE-STRUCTURED-LOCATION;VALUE=URI;X-ADDRESS=Carnegie Visual Arts Center 207 Church Street NE Decatur AL 35601 United States;X-APPLE-RADIUS=500;X-TITLE=207 Church Street\, NE:geo:-86.9820525,34.6116295
END:VEVENT
BEGIN:VEVENT
DTSTART;TZID=America/Chicago:20260207T100000
DTEND;TZID=America/Chicago:20260207T150000
DTSTAMP:20260424T051243
CREATED:20260105T230859Z
LAST-MODIFIED:20260105T232211Z
UID:6201-1770458400-1770476400@www.carnegiecarnival.org
SUMMARY:Princesses & Pancakes Spa Day
DESCRIPTION:We are turning Bennett School of Cosmetology into a royal spa for a cause! Support Princess Candidate Phoenix McCraig by joining us on Saturday\, February 7th for a day of pampering\, pancakes\, princess fun\, and purpose! Your little royal will enjoy a pancake breakfast\, mini facial\, mini mani\, hair tinsel or glitter and a DIY lip scrub bar. Encourage your little one to dress up in their favorite princess outfit. Costumes are welcome and encouraged for extra magic! Tickets are $40 per child. Spots will fill up quickly…sign up soon! Proceeds benefit CASA of North Alabama & the Carnegie Visual Arts Center. This magical experience will create unforgettable memories for your child while helping support children and the arts in our community. \n  \n\nHow to register:\n1. Venmo @phoenix4carnegieprincess (put child’s name in the memo line)\n2. Text 256.466.3960 with your child’s name to select a time slot
URL:https://www.carnegiecarnival.org/event/princesses-pancakes-spa-day/
LOCATION:Bennett School of Cosmetology\, 308 Cain St NE\, Decatur\, 35601\, United States
CATEGORIES:Princess
END:VEVENT
BEGIN:VEVENT
DTSTART;TZID=America/Chicago:20260207T103000
DTEND;TZID=America/Chicago:20260207T133000
DTSTAMP:20260424T051243
CREATED:20260122T181452Z
LAST-MODIFIED:20260124T003733Z
UID:6409-1770460200-1770471000@www.carnegiecarnival.org
SUMMARY:Puppy Photos at Decatur Animal Services
DESCRIPTION:Join us for a fun-filled day supporting two amazing causes while meeting some of the sweetest animals around! Come out to Decatur Animal Services and spend time with adoptable pets—you just might meet your new best friend. This event supports Lily for Lady Barks-A-Lot and Balto for Sir Bow Wow.\n \n  \nJamie Howard Photography will be on-site taking photos to help raise money. These sessions are normally $75\, but for this day only\, they’ll be donate what you can. You’ll receive two digital images with your donation. We’ll also have multiple raffles\, plus lots of other fun activities going on throughout the event. All proceeds will be split between Decatur Animal Services and the Carnegie Visual Arts Center.
URL:https://www.carnegiecarnival.org/event/puppy-photos-at-decatur-animal-services/
CATEGORIES:Lady Barks-A-Lot
END:VEVENT
BEGIN:VEVENT
DTSTART;TZID=America/Chicago:20260207T110000
DTEND;TZID=America/Chicago:20260207T140000
DTSTAMP:20260424T051243
CREATED:20260112T221002Z
LAST-MODIFIED:20260112T221002Z
UID:6320-1770462000-1770472800@www.carnegiecarnival.org
SUMMARY:Spirit Day at the Brick Hosted by Crewe O' Ye Crooked Goat
DESCRIPTION:Come join the Crewe O’ Ye Crooked Goat for Spirit Day at the Brick Deli on Saturday\, February 7th at 11am! Sip one\, or a few\, of Chad’s famous Bloody Marys\, snag a sandwich\, or warm up with some soup and support the Carnegie!
URL:https://www.carnegiecarnival.org/event/spirit-day-at-the-brick-hosted-by-crewe-o-ye-crooked-goat/
LOCATION:The Brick Deli\, 112 East Moulton Street\, Decatur\, AL\, 35601\, United States
CATEGORIES:Crewe
GEO:34.6041777;-86.9859025
X-APPLE-STRUCTURED-LOCATION;VALUE=URI;X-ADDRESS=The Brick Deli 112 East Moulton Street Decatur AL 35601 United States;X-APPLE-RADIUS=500;X-TITLE=112 East Moulton Street:geo:-86.9859025,34.6041777
END:VEVENT
BEGIN:VEVENT
DTSTART;TZID=America/Chicago:20260207T130000
DTEND;TZID=America/Chicago:20260207T150000
DTSTAMP:20260424T051243
CREATED:20260106T212324Z
LAST-MODIFIED:20260123T175622Z
UID:6228-1770469200-1770476400@www.carnegiecarnival.org
SUMMARY:Acro & Tumbling Clinic for Kids-NEW DATE!!
DESCRIPTION:Come join us on Saturday\, February 7th\, from 1-3 pm at Dancers Incorporated for a special Acro and Tumbling Clinic supporting Princess Candidate Maddie Dodson. Have some fun and learn new tricks with instructor Mrs. Robyn Penuelas! Bring water\, athletic clothes\, and be ready to tumble! Ages 5 and up\, $25 per kid. Proceeds benefit CASA of North Alabama and the Carnegie Visual Arts Center. \n  \nClick here to register now! Reserve your spot through PayPal: @LisaRea713 or Venmo: @MaddelynDodson717 *ADD COMMENT “Tumbling Clinic”. \n 
URL:https://www.carnegiecarnival.org/event/acro-tumbling-clinic/
LOCATION:Dancers Incorporated\, 1130 4th Ave SE\, Decatur\, 35601\, United States
CATEGORIES:Princess
END:VEVENT
BEGIN:VEVENT
DTSTART;TZID=America/Chicago:20260207T170000
DTEND;TZID=America/Chicago:20260207T200000
DTSTAMP:20260424T051243
CREATED:20260120T191528Z
LAST-MODIFIED:20260120T191528Z
UID:6392-1770483600-1770494400@www.carnegiecarnival.org
SUMMARY:Galentines Crafts + Trivia Night at Cross-Eyed Owl Brewing Co.
DESCRIPTION:Join us on February 7th\, one week before the Mardi Gras parade/Valentine’s Day\, at Cross-Eyed Owl Brewery for a special Galentines craft night with chick-flick triva! Crafts include scrapbooking\, creating old school Valentines cards & friendship bracelets\, as well as candle decorating. Tickets are $30 and include all crafting supplies\, Girl Dinner\, and prizes to win during trivia. Bring your friends and be prepared to make new ones! You can purchase your tickets through any of the apps listed below- 100% of the proceeds go to Carnegie Visual Arts Center and Decatur Animal Services. This event is hosted by Mallie Sedlak and supports Sir Bow-Wow candidate Tucker. \n  \nVenmo: @Mallie-Sedlak \nhttps://venmo.com/u/Mallie-Sedlak \nCashapp: @$MallieSedlak \nhttps://cash.app/$MallieSedlak \nPayPal: @malliesedlak \n 
URL:https://www.carnegiecarnival.org/event/galentines-crafts-trivia-night-at-cross-eyed-owl-brewing-co/
LOCATION:Cross-Eyed Owl Brewing Company\, 105 1st Avenue NE\, Decatur\, AL\, 35601\, United States
CATEGORIES:Sir Bow-Wow
GEO:34.6043143;-86.9867305
X-APPLE-STRUCTURED-LOCATION;VALUE=URI;X-ADDRESS=Cross-Eyed Owl Brewing Company 105 1st Avenue NE Decatur AL 35601 United States;X-APPLE-RADIUS=500;X-TITLE=105 1st Avenue NE:geo:-86.9867305,34.6043143
END:VEVENT
END:VCALENDAR